BEGIN:VCALENDAR
VERSION:2.0
PRODID:-//Andy Lang - ECPv4.6.24.1//NONSGML v1.0//EN
CALSCALE:GREGORIAN
METHOD:PUBLISH
X-WR-CALNAME:Andy Lang
X-ORIGINAL-URL:https://old.andy-lang.de
X-WR-CALDESC:Veranstaltungen für Andy Lang
BEGIN:VEVENT
DTSTART;TZID=Europe/Berlin:20150927T140000
DTEND;TZID=Europe/Berlin:20150927T160000
DTSTAMP:20260425T153240
CREATED:20150623T183617Z
LAST-MODIFIED:20150904T112534Z
UID:756-1443362400-1443369600@old.andy-lang.de
SUMMARY:Andy Lang 27.9.In Freyburg and der Unstrut ENTFÄLLT
DESCRIPTION:
URL:https://old.andy-lang.de/event/andy-lang-im-noerdlichsten-weinbaugebiet-europas-am-so-27-9-in-freyburg-and-der-unstrut/
LOCATION:Weingalerie im Schweigenberg\, Schweigendere 2\, Reibung\, 06632
END:VEVENT
END:VCALENDAR