BEGIN:VCALENDAR
VERSION:2.0
PRODID:-//Andy Lang - ECPv4.6.24.1//NONSGML v1.0//EN
CALSCALE:GREGORIAN
METHOD:PUBLISH
X-WR-CALNAME:Andy Lang
X-ORIGINAL-URL:https://old.andy-lang.de
X-WR-CALDESC:Veranstaltungen für Andy Lang
BEGIN:VEVENT
DTSTART;TZID=Europe/Berlin:20151007T190000
DTEND;TZID=Europe/Berlin:20151008T000000
DTSTAMP:20260425T113650
CREATED:20150724T142500Z
LAST-MODIFIED:20150724T142500Z
UID:871-1444244400-1444262400@old.andy-lang.de
SUMMARY:Buschnschänke in der Konzertscheune
DESCRIPTION:Unser Beitrag zur fränkischen Bierkultur! \n
URL:https://old.andy-lang.de/event/buschnschaenke-in-der-konzertscheune/
LOCATION:Konzertscheune\, Bahnhofstraße 1\, Gefrees\, 95482\, Deutschland
ATTACH;FMTTYPE=image/jpeg:https://old.andy-lang.de/wp-content/uploads/2015/07/ozapft-is.jpg
END:VEVENT
END:VCALENDAR