BEGIN:VCALENDAR
VERSION:2.0
PRODID:-//Andy Lang - ECPv4.6.24.1//NONSGML v1.0//EN
CALSCALE:GREGORIAN
METHOD:PUBLISH
X-WR-CALNAME:Andy Lang
X-ORIGINAL-URL:https://old.andy-lang.de
X-WR-CALDESC:Veranstaltungen für Andy Lang
BEGIN:VEVENT
DTSTART;TZID=Europe/Berlin:20151204T200000
DTEND;TZID=Europe/Berlin:20151204T220000
DTSTAMP:20260419T173148
CREATED:20150916T210312Z
LAST-MODIFIED:20151204T130441Z
UID:944-1449259200-1449266400@old.andy-lang.de
SUMMARY:celtic christmas in Bayreuth
DESCRIPTION:Die frisch renovierte Stadtkirche Bayreuth mit ihrer schönen Gotik bietet eine würdevollen Rahmen für meine Tradition: weihnachtliche Klänge aus Irland und Schottland auf der Harfe erklingen zu lassen. \nGanz neu: Judith und ich werden im wunderschönen gotischen chorraum musizieren – eine besondere Erfahrung für alle Liebhaber der Staatskirche. \n
URL:https://old.andy-lang.de/event/celtic-christmas-in-bayreuth/
LOCATION:ev. Stadtkirche Bayreuth\, Kanzleistrasse 11\, Bayreuth\, 95444
ATTACH;FMTTYPE=image/jpeg:https://old.andy-lang.de/wp-content/uploads/2015/05/judith_andy_presse11.jpg
END:VEVENT
END:VCALENDAR