BEGIN:VCALENDAR
VERSION:2.0
PRODID:-//Andy Lang - ECPv4.6.24.1//NONSGML v1.0//EN
CALSCALE:GREGORIAN
METHOD:PUBLISH
X-WR-CALNAME:Andy Lang
X-ORIGINAL-URL:https://old.andy-lang.de
X-WR-CALDESC:Veranstaltungen für Andy Lang
BEGIN:VEVENT
DTSTART;TZID=Europe/Berlin:20150926T180000
DTEND;TZID=Europe/Berlin:20150926T200000
DTSTAMP:20260425T171720
CREATED:20150623T183255Z
LAST-MODIFIED:20150623T183255Z
UID:754-1443290400-1443297600@old.andy-lang.de
SUMMARY:celtic songs im Wendland: Sa.\, 26.9 in Wustrow
DESCRIPTION:Bereits zum vierten Mal freue ich mich auf eine schöne und heimelige Atmosphäre in der wunderschönen Kirche in Wustrow! \n
URL:https://old.andy-lang.de/event/celtic-songs-im-wendland-sa-26-9-in-wustrow/
LOCATION:ev. Kirche\, An der Kirche 1\, Wustrow\, 29462
END:VEVENT
END:VCALENDAR