BEGIN:VCALENDAR
VERSION:2.0
PRODID:-//Andy Lang - ECPv4.6.24.1//NONSGML v1.0//EN
CALSCALE:GREGORIAN
METHOD:PUBLISH
X-WR-CALNAME:Andy Lang
X-ORIGINAL-URL:https://old.andy-lang.de
X-WR-CALDESC:Veranstaltungen für Andy Lang
BEGIN:VEVENT
DTSTART;TZID=Europe/Berlin:20150924T190000
DTEND;TZID=Europe/Berlin:20150924T210000
DTSTAMP:20260425T203208
CREATED:20150623T182413Z
LAST-MODIFIED:20150727T102459Z
UID:750-1443121200-1443128400@old.andy-lang.de
SUMMARY:celtic spirit & songs im hohen Norden: Duishorn/Walsrode
DESCRIPTION:Mein erstes Konzert in der schönen\, nordisch geprägten Kirche Duishorn/Walsrode \n
URL:https://old.andy-lang.de/event/celtic-spirit-songs-im-hohen-norden-ostenholz/
LOCATION:ev. Kirche Duishorn\, Kirchstrasse 1\, Walsrode\, 29664
END:VEVENT
END:VCALENDAR