BEGIN:VCALENDAR
VERSION:2.0
PRODID:-//Andy Lang - ECPv4.6.24.1//NONSGML v1.0//EN
CALSCALE:GREGORIAN
METHOD:PUBLISH
X-WR-CALNAME:Andy Lang
X-ORIGINAL-URL:https://old.andy-lang.de
X-WR-CALDESC:Veranstaltungen für Andy Lang
BEGIN:VEVENT
DTSTART;TZID=Europe/Berlin:20151114T190000
DTEND;TZID=Europe/Berlin:20151114T203000
DTSTAMP:20260424T120520
CREATED:20150916T203216Z
LAST-MODIFIED:20150916T203216Z
UID:925-1447527600-1447533000@old.andy-lang.de
SUMMARY:celtic spirit & songs in der ev. Kirche Lanzendorf
DESCRIPTION:
URL:https://old.andy-lang.de/event/celtic-spirit-songs-in-der-ev-kirche-lanzendorf/
LOCATION:ev. Kirche Lanzendorf\, Lanzendorf\, 95502
END:VEVENT
END:VCALENDAR