BEGIN:VCALENDAR
VERSION:2.0
PRODID:-//Andy Lang - ECPv4.6.24.1//NONSGML v1.0//EN
CALSCALE:GREGORIAN
METHOD:PUBLISH
X-WR-CALNAME:Andy Lang
X-ORIGINAL-URL:https://old.andy-lang.de
X-WR-CALDESC:Veranstaltungen für Andy Lang
BEGIN:VEVENT
DTSTART;TZID=Europe/Berlin:20150925T190000
DTEND;TZID=Europe/Berlin:20150925T210000
DTSTAMP:20260425T185716
CREATED:20150623T182925Z
LAST-MODIFIED:20150724T144612Z
UID:752-1443207600-1443214800@old.andy-lang.de
SUMMARY:celtic spirit & songs in Hannover
DESCRIPTION:Ein schöner Freitagabend in Hannover: Ein Konzert mit Andy Lang und keltischen Klängen in der Zachäuskirche! \n
URL:https://old.andy-lang.de/event/celtic-spirit-songs-in-hannover/
LOCATION:ev. Zachäuskirche\, Wernigeroderweg 21\, Hannover\, 30420
END:VEVENT
END:VCALENDAR