BEGIN:VCALENDAR
VERSION:2.0
PRODID:-//Andy Lang - ECPv4.6.24.1//NONSGML v1.0//EN
CALSCALE:GREGORIAN
METHOD:PUBLISH
X-WR-CALNAME:Andy Lang
X-ORIGINAL-URL:https://old.andy-lang.de
X-WR-CALDESC:Veranstaltungen für Andy Lang
BEGIN:VEVENT
DTSTART;TZID=Europe/Berlin:20151108T180000
DTEND;TZID=Europe/Berlin:20151108T210000
DTSTAMP:20260424T153733
CREATED:20150916T205620Z
LAST-MODIFIED:20150916T205620Z
UID:940-1447005600-1447016400@old.andy-lang.de
SUMMARY:Deutsche Volkslieder im Weltmusikgewand: Tworna in der Konzertscheune
DESCRIPTION:Alte Volkslieder in neuem Gewand: Tworna \nDas Dresdener Trio Tworna zeigt hautnah\, wie schön\, berührend und zeitgemäß echte Volksmusik sein kann fernab von den Verunglimpfungen der volkstümelnden Schlager. \nIn außergewöhnlicher Besetzung und mit wunderschönen Arrangements entführen Nyckelharpa\, Akustikgitarre\, Bass\, Trommeln und Gesang von Katharina\, Frieder und Catarina in die deutsche Romantik. \nTWORNA öffnet diesem traditionellen Liedgut Türen ins Heute. Das klingt dann ganz anders\, als manch einer denkt\, und leuchtet – hell und klar. \n
URL:https://old.andy-lang.de/event/deutsche-volkslieder-im-weltmusikgewand-tworna-in-der-konzertscheune/
LOCATION:Konzertscheune\, Bahnhofstraße 1\, Gefrees\, 95482\, Deutschland
ATTACH;FMTTYPE=image/jpeg:https://old.andy-lang.de/wp-content/uploads/2015/09/Tworna_I.jpg
END:VEVENT
END:VCALENDAR