BEGIN:VCALENDAR
VERSION:2.0
PRODID:-//Andy Lang - ECPv4.6.24.1//NONSGML v1.0//EN
CALSCALE:GREGORIAN
METHOD:PUBLISH
X-WR-CALNAME:Andy Lang
X-ORIGINAL-URL:https://old.andy-lang.de
X-WR-CALDESC:Veranstaltungen für Andy Lang
BEGIN:VEVENT
DTSTART;TZID=Europe/Berlin:20151127T200000
DTEND;TZID=Europe/Berlin:20151127T213000
DTSTAMP:20260420T000704
CREATED:20150916T204616Z
LAST-MODIFIED:20150916T204616Z
UID:933-1448654400-1448659800@old.andy-lang.de
SUMMARY:Feierabendgottesdienst mit Konzert
DESCRIPTION:Eine Stunde Inspiration pur! \n
URL:https://old.andy-lang.de/event/feierabendgottesdienst-mit-konzert/
LOCATION:kath Kirche St. Peter & Paul\, Nassach/FRiesenhausen\, 97491
END:VEVENT
END:VCALENDAR