BEGIN:VCALENDAR
VERSION:2.0
PRODID:-//Andy Lang - ECPv4.6.24.1//NONSGML v1.0//EN
CALSCALE:GREGORIAN
METHOD:PUBLISH
X-WR-CALNAME:Andy Lang
X-ORIGINAL-URL:https://old.andy-lang.de
X-WR-CALDESC:Veranstaltungen für Andy Lang
BEGIN:VEVENT
DTSTART;TZID=Europe/Berlin:20150927T180000
DTEND;TZID=Europe/Berlin:20150927T220000
DTSTAMP:20260425T132548
CREATED:20150623T183845Z
LAST-MODIFIED:20150623T183845Z
UID:759-1443376800-1443391200@old.andy-lang.de
SUMMARY:Harfe meets Pop: Jeanine Vahldiek & Band in der Konzertscheune Gefrees
DESCRIPTION:Harfe meets Pop & Jazz: Jeanine Vahldiek & band \nHarfe\, Gesang und Percussion (Steffen Haß) verschmelzen an diesem Abend zu einem sehr eigenständigen\, besonderen Sound und entführen in ungeahnte Klangweiten die auf den Zuhörer wie hypnotisierend wirken. \nDie Songs mit Einflüssen aus Pop\, Rock\, Jazz\, alle selbst geschrieben und beeindruckend in Szene gesetzt\, bewegen die Zuhörer vom ersten Moment an. \nJeanines unbekümmertes Auftreten und ihre charmante Moderation stellen eine unmittelbare Nähe zum Zuhörer her! \nwww.jeanine-vahldiek.com \n  \n
URL:https://old.andy-lang.de/event/harfe-meets-pop-jeanine-vahldiek-band-in-der-konzertscheune-gefrees/
LOCATION:Konzertscheune\, Bahnhofstraße 1\, Gefrees\, 95482\, Deutschland
END:VEVENT
END:VCALENDAR