BEGIN:VCALENDAR
VERSION:2.0
PRODID:-//Andy Lang - ECPv4.6.24.1//NONSGML v1.0//EN
CALSCALE:GREGORIAN
METHOD:PUBLISH
X-WR-CALNAME:Andy Lang
X-ORIGINAL-URL:https://old.andy-lang.de
X-WR-CALDESC:Veranstaltungen für Andy Lang
BEGIN:VEVENT
DTSTART;TZID=Europe/Berlin:20151024T200000
DTEND;TZID=Europe/Berlin:20151024T230000
DTSTAMP:20260425T013001
CREATED:20150724T143909Z
LAST-MODIFIED:20150724T143909Z
UID:884-1445716800-1445727600@old.andy-lang.de
SUMMARY:Irish Folk Night mit Tim Browne in der Konzertscheune
DESCRIPTION:Die personifizierte irische Ballade und das Schwergewicht des Irish Folk gibt sich wieder einmal die Ehre: Mit fast vergessenen Songs aus seiner Grafschaft Cork\, mit mächtiger Stimme\, viel Witz und einer gehörigen Portion Blues im Blut spielt Tim Browne auf\, als ginge es um sein Leben. \nDazu begleitet der Vollblutire mit dem Rauschebart sich gekonnt auf der Bouzouki\, bevor er seine musikaischen Freunde Volker Riess (Bodhran) und Andy Lang für ein furioses Finale auf die Bühne holt. \nVorreservierung empfohlen\, Guinnes vom Fass! \nwww.mosesbridgemusic.com \nTickets gibt es im Vorverkauf zu 12 € bei Schreibwaren Müller\, AK 14 €\, Dreier Abo 10 € \n
URL:https://old.andy-lang.de/event/irish-folk-night-mit-tim-browne-in-der-konzertscheune/
LOCATION:Konzertscheune\, Bahnhofstraße 1\, Gefrees\, 95482\, Deutschland
ATTACH;FMTTYPE=image/jpeg:https://old.andy-lang.de/wp-content/uploads/2015/05/tim_volker_sw.jpg
END:VEVENT
END:VCALENDAR