BEGIN:VCALENDAR
VERSION:2.0
PRODID:-//Andy Lang - ECPv4.6.24.1//NONSGML v1.0//EN
CALSCALE:GREGORIAN
METHOD:PUBLISH
X-WR-CALNAME:Andy Lang
X-ORIGINAL-URL:https://old.andy-lang.de
X-WR-CALDESC:Veranstaltungen für Andy Lang
BEGIN:VEVENT
DTSTART;TZID=Europe/Berlin:20150919T193000
DTEND;TZID=Europe/Berlin:20150919T210000
DTSTAMP:20260425T233421
CREATED:20150623T181714Z
LAST-MODIFIED:20150914T172429Z
UID:744-1442691000-1442696400@old.andy-lang.de
SUMMARY:keltische Klänge in 84174 Eching bei Landshut
DESCRIPTION:Mein aktuelles Konzertprogramm in der schönen und sehr stimmungsvollen Pfarrkirche Eching Vorreservierung wegen begrenzter Platzzahl empfohlen! \n
URL:https://old.andy-lang.de/event/keltische-klaenge-in-berghofen-bei-erding/
LOCATION:kath. Pfarrkirche Eching\,\, Pfarrstrasse\, Eching bei Landshut\, 84174
END:VEVENT
END:VCALENDAR