BEGIN:VCALENDAR
VERSION:2.0
PRODID:-//Andy Lang - ECPv4.6.24.1//NONSGML v1.0//EN
CALSCALE:GREGORIAN
METHOD:PUBLISH
X-WR-CALNAME:Andy Lang
X-ORIGINAL-URL:https://old.andy-lang.de
X-WR-CALDESC:Veranstaltungen für Andy Lang
BEGIN:VEVENT
DTSTART;TZID=Europe/Berlin:20151029T193000
DTEND;TZID=Europe/Berlin:20151029T210000
DTSTAMP:20260424T221146
CREATED:20150724T144345Z
LAST-MODIFIED:20150724T144345Z
UID:889-1446147000-1446152400@old.andy-lang.de
SUMMARY:Konzertlesung "Auf den Pfaden der Freiheit" in Schönwald
DESCRIPTION:„Frei zu sein ist eine Kunst\, die nur ein Meister der Verbindlichkeit beherrscht.“ \nWir sehnen uns nach der Freiheit\, unser eigenes Leben zu leben\, selbst bestimmt\, authentisch und voller Kraft. Aber wie kann uns das im Alltag gelingen\, der mit seinen Erwartungen und Forderungen oft an die Grenze der Leistungsfähigkeit führt? Wie kann ich selbst gestalten und aufhören\, Opfer zu sein? Wie kann ich die Lebenskraft finden\, zu der ich berufen bin? \n  \nMit Impulsen aus der irischen Weisheit und dem weiten Klang der keltischen Harfe\, mit wunderschönen Texten zeitgenössischer Autoren und alter Mystiker und mit seiner einfühlsamen Art beschreitet Andy Lang die Weiten einer Lebens Landschaft\, nach der wir uns sehnen. \n  \n2009 gab der Hauptkulturpreisträger Bayreuths sein 1000stes Konzert in Deutschlands ältester Naturbühne\, der Luisenburg Wunsiedel. Konzertlesungen mit den Bestsellerautoren Anselm Grün und Ulrich Schaffer gehören ebenso zu seinem Wirken wie Pilgerreisen an die irische Westküste. \n
URL:https://old.andy-lang.de/event/konzertlesung-auf-den-pfaden-der-freiheit-in-schoenwald/
LOCATION:Bücherei Schönwald\, Grundschule\, Schulstrasse 6\, Schönwald\, 95173
END:VEVENT
END:VCALENDAR