BEGIN:VCALENDAR
VERSION:2.0
PRODID:-//Andy Lang - ECPv4.6.24.1//NONSGML v1.0//EN
CALSCALE:GREGORIAN
METHOD:PUBLISH
X-WR-CALNAME:Andy Lang
X-ORIGINAL-URL:https://old.andy-lang.de
X-WR-CALDESC:Veranstaltungen für Andy Lang
BEGIN:VEVENT
DTSTART;TZID=Europe/Berlin:20151122T170000
DTEND;TZID=Europe/Berlin:20151122T190000
DTSTAMP:20260420T021335
CREATED:20150916T204259Z
LAST-MODIFIED:20150916T204259Z
UID:931-1448211600-1448218800@old.andy-lang.de
SUMMARY:Musik zur Ewigkeit - meditative Klänge zum Ewigkeitssonntag in der Wallfahrtsbasilika Marienweiher
DESCRIPTION:90 Minuten der Stille\, der Muße\, des Gebets und des Klangs in einem wunderschönen Raum: Der Wallfahrtskirche Marienweiher \n
URL:https://old.andy-lang.de/event/musik-zur-ewigkeit-meditative-klaenge-zum-ewigkeitssonntag-in-der-wallfahrtsbasilika-marienweiher/
LOCATION:kath Wallfahrtsbasilika Marienweiher\, Marienweiher\, 95352
END:VEVENT
END:VCALENDAR