BEGIN:VCALENDAR
VERSION:2.0
PRODID:-//Andy Lang - ECPv4.6.24.1//NONSGML v1.0//EN
CALSCALE:GREGORIAN
METHOD:PUBLISH
X-WR-CALNAME:Andy Lang
X-ORIGINAL-URL:https://old.andy-lang.de
X-WR-CALDESC:Veranstaltungen für Andy Lang
BEGIN:VEVENT
DTSTART;TZID=Europe/Berlin:20150920T170000
DTEND;TZID=Europe/Berlin:20150920T190000
DTSTAMP:20260425T221213
CREATED:20150623T182157Z
LAST-MODIFIED:20150623T182157Z
UID:748-1442768400-1442775600@old.andy-lang.de
SUMMARY:Schöpfungsklänge am Chiemsee: Andy Lang gastiert in ev. Christuskirche Prien
DESCRIPTION:Denn auch die Schöpfung wird frei – ein Konzert für die Erde \nWach werden für die Schönheit\, Raum schaffen für den Dank\, bewusst werden\, dass alles Geschenk ist:\nDieses Geheimnis von Erntedank besingt der Barde und Theologe Andy Lang mit den Klängen seiner keltischen Harfe\, seiner Gitarre und seiner tiefen\, ausdrucksstarken Stimme mit Leidenschaft und Überzeugungskraft. Er zelebriert deutsche\, englische und hebräische Lieder\, Gedichte mittelalterlicher Mystiker und Instrumentalstücke\, die das Gehörte schwingen lassen und schafft mit leichten Kanons den Raum\, in das Schöpfungslob mit einzustimmen- – \nEin Konzert für Sehnsüche\, für Alte und Junge. \n
URL:https://old.andy-lang.de/event/schoepfungsklaenge-am-chiemsee-andy-lang-gastiert-in-ev-christuskirche-prien/
LOCATION:ev. Christuskirche\, Kirchweg 13\, Prien\, 83209
END:VEVENT
END:VCALENDAR