BEGIN:VCALENDAR
VERSION:2.0
PRODID:-//Andy Lang - ECPv4.6.24.1//NONSGML v1.0//EN
CALSCALE:GREGORIAN
METHOD:PUBLISH
X-WR-CALNAME:Andy Lang
X-ORIGINAL-URL:https://old.andy-lang.de
X-WR-CALDESC:Veranstaltungen für Andy Lang
BEGIN:VEVENT
DTSTART;TZID=Europe/Berlin:20151121T100000
DTEND;TZID=Europe/Berlin:20151122T190000
DTSTAMP:20260420T034808
CREATED:20150916T203951Z
LAST-MODIFIED:20150918T112223Z
UID:930-1448100000-1448218800@old.andy-lang.de
SUMMARY:Seminar: Stille Tage im Advent: Atmen\, Hören\, Leben feat. Krishn Kypke
DESCRIPTION:Traditionellerweise war die Adventszeit eine Zeit der Einkehr\, Muße und der inneren Vorbereitung auf das Kind\, das in uns geboren werden will: Die „staade Zeit“. Heute ist diese Zeit gefüllt mit events\, Weihnachstfeiern\, Christmas shopping und anderen Dingen\, die uns ablenken\, anzukommen bei uns selbst. \nEinen heilsamen Kontrapunkt möchten diese beiden Tage bieten mit gemeinsamen Singen\, Schweigen\, Meditieren\, sich austauschen\, Natur erleben. \nChristian „Krishn“ Kypke begleitet auf der indischen Sitar einige Duft-Meditationen. Ruhe und Entspannung werden vermittelt und eine innere Reise angeregt. Außerdem erwartet uns ein nächtliches Feuerritual und eine sprudelnde Quelle. \nDen stimmungsvollen Abschluss bietet ein Konzert von Andy & Krishn in der wunderschönen Wallfahrtsbasilika Marienweiher. \nInfos und Anmeldung direkt bei Andy unter info@andy-lang.de oder 09254 326716 \nÜber Krishn Kypke \nReisen und Musik sind die Themen die Krishn faszinieren. Er bereiste nach seinem Musikstudium Länder wie z.B. Indien\, China\, Malaysia und Uzbekistan. Eigentlich um sich eine Auszeit zu nehmen und keine Musik zu machen – nun\, das mit dem „nicht Musik machen“ hat nicht geklappt und so lernte er in diesen Ländern nicht nur die Kultur\, Land und Leute kennen\, sondern auch deren Musik und Saiteninstrumente. Er ist deutschlandweit on tour mit seinem Konzertprogramm „Die Saiten der Welt“.                       www.christiankypke.de \nAblauf:            Das Seminar beginnt am Sa.\, 21.11.15 um 10.00 mit einem Kaffee und endet am So. 22.11.15 um ca. 18.30 nach dem Konzert. \nKosten:           Die Seminargebühr beträgt 130 € wird bar am 21.11.15 fällig. \nEssen:             Wir bereiten zwei leichte Mittagessen und ein Dinner gemeinsam vor. Mitbringsel sind willkommen. \nStorno:            Bei Absagen ab 4 Wochen vor Seminarbeginn sind 50 % der Seminarkosten zu erstatten\, ab 1.11.15 75 % der Seminarkosten \nÜbernachtung: Eine rustikale Übernachtungsgelegenheit gibt es kostenfrei im Heuboden der Scheune. Sechs Zweibettzimmer stehen für 20 € pro Person zu Verfügung. (EZ 27 €) \n
URL:https://old.andy-lang.de/event/seminar-stille-tage-im-advent-atmen-hoeren-leben/
LOCATION:Konzertscheune\, Bahnhofstraße 1\, Gefrees\, 95482\, Deutschland
ATTACH;FMTTYPE=image/tiff:https://old.andy-lang.de/wp-content/uploads/2015/09/Krishn-Kypke.tif
END:VEVENT
END:VCALENDAR